BEGIN:VCALENDAR
VERSION:2.0
PRODID:-//eventon.com NONSGML v1.0//EN
CALSCALE:GREGORIAN
METHOD:PUBLISH
BEGIN:VEVENT
UID:69e9dd8716915
DTSTAMP:20260423T085119Z
DTSTART:20230305T030000Z
DTEND:20230305T070000Z
LOCATION:Gold Club 650 Howard Street
SUMMARY:UFC 285
DESCRIPTION:UFC 285 Two Title Fights JONES  vs GANE Shevchenko  vs Grasso
  Saturday March  4th 7pm- 11pm BOTTLE SERVICE MENU VIP TABLES  #GOLDCLUBS
 F &#8211;\nhttps://goldclubsf.com/events/ufc-285/
URL:https://goldclubsf.com/events/ufc-285/
END:VEVENT
END:VCALENDAR